

BEGIN:VCALENDAR
VERSION:2.0
X-WR-TIMEZONE:Europe/Paris
CALSCALE:GREGORIAN
PRODID:-//SPIP/Plugin Agenda//NONSGML v1.0//FR
X-WR-CALNAME;VALUE=TEXT:Commune de Lanouaille en Périgord Vert -- Agenda
X-WR-CALDESC:Site de la Mairie de Lanouaille\, au cœur du pays Isle-Auvézère en Périgord vert…
X-WR-RELCALID:http://www.lanouaille.fr
BEGIN:VEVENT
SUMMARY:LOTO
UID:evenement102 @ http://www.lanouaille.fr
DTSTAMP:20141123T140000
DTSTART:20141123T140000
DTEND:20141123T180000
LOCATION:Salle des fêtes de Lanouaille 
DESCRIPTION:Organisé par le Club des Aînés ruraux 6 quines + loto corse Gros lot : tablette numérique
CATEGORIES:LOTO
URL:https://www.lanouaille.fr/LOTO\,164.html?id_evenement=102
STATUS:CONFIRMED
END:VEVENT
END:VCALENDAR