BEGIN:VCALENDAR
VERSION:2.0
X-WR-TIMEZONE:Europe/Paris
CALSCALE:GREGORIAN
PRODID:-//SPIP/Plugin Agenda//NONSGML v1.0//FR
X-WR-CALNAME;VALUE=TEXT:Commune de Lanouaille en Périgord Vert -- Agenda
X-WR-CALDESC:Site de la Mairie de Lanouaille\, au cœur du pays Isle-Auvézère en Périgord vert…
X-WR-RELCALID:http://www.lanouaille.fr
BEGIN:VEVENT
SUMMARY:Défilé de Carnaval
UID:evenement108 @ http://www.lanouaille.fr
DTSTAMP:20150214T143000
DTSTART:20150214T143000
DTEND:20150214T180000
LOCATION:Lanouaille 
DESCRIPTION:Programme : rendez-vous 14h30 à la salle des fêtes\, apportez vos costumes ! 14h30 : habillage\, maquillage 15h : défilé dans le bourg de Lanouaille retour à la salle des fêtes : goûter offert aux enfants et jeux gratuits créés par les enfants lors des TAP clôture à 18h Organisé par l'association NOTRE ARC EN CIEL
CATEGORIES:Carnaval
URL:https://www.lanouaille.fr/Carnaval.html?id_evenement=108
STATUS:CONFIRMED
END:VEVENT
END:VCALENDAR