

BEGIN:VCALENDAR
VERSION:2.0
X-WR-TIMEZONE:Europe/Paris
CALSCALE:GREGORIAN
PRODID:-//SPIP/Plugin Agenda//NONSGML v1.0//FR
X-WR-CALNAME;VALUE=TEXT:Commune de Lanouaille en Périgord Vert -- Agenda
X-WR-CALDESC:Site de la Mairie de Lanouaille\, au cœur du pays Isle-Auvézère en Périgord vert…
X-WR-RELCALID:http://www.lanouaille.fr
BEGIN:VEVENT
SUMMARY:Fête du jeu à Sarrazac
UID:evenement120 @ http://www.lanouaille.fr
DTSTAMP:20150530T100000
DTSTART:20150530T100000
DTEND:20150530T180000
LOCATION:Salle des fêtes de Sarrazac 
DESCRIPTION:Gratuit et ouvert à tous Jeux de société traditionnels et surdimensionnés\, jeux de construction\, espace petite enfance\, jeux de lancer de peinture\, espace ludique « bien être et détente »\, ferme d'animation itinérante. / Buvette et possibilité de pique-niquer sur place Organisé par l'association LUDINOMADE 06.51.50.34.61
CATEGORIES:Fête du jeu à Sarrazac
URL:https://www.lanouaille.fr/Fete-du-jeu-a-Sarrazac.html?id_evenement=120
STATUS:CONFIRMED
END:VEVENT
END:VCALENDAR