

BEGIN:VCALENDAR
VERSION:2.0
X-WR-TIMEZONE:Europe/Paris
CALSCALE:GREGORIAN
PRODID:-//SPIP/Plugin Agenda//NONSGML v1.0//FR
X-WR-CALNAME;VALUE=TEXT:Commune de Lanouaille en Périgord Vert -- Agenda
X-WR-CALDESC:Site de la Mairie de Lanouaille\, au cœur du pays Isle-Auvézère en Périgord vert…
X-WR-RELCALID:http://www.lanouaille.fr
BEGIN:VEVENT
SUMMARY:Randonnée à Brantôme
UID:evenement122 @ http://www.lanouaille.fr
DTSTAMP:20150607T000000
DTSTART;VALUE=DATE:20150607
DTEND;VALUE=DATE:20150608
LOCATION:Brantôme 
DESCRIPTION:Rendez-vous Jardins des Moines à 10h Prévoir le pique-nique. 9\,5 km ou 18 km 06.86.48.84.88
CATEGORIES:Randonnée à Brantôme
URL:https://www.lanouaille.fr/Randonnee-a-Brantome.html?id_evenement=122
STATUS:CONFIRMED
END:VEVENT
END:VCALENDAR