

BEGIN:VCALENDAR
VERSION:2.0
X-WR-TIMEZONE:Europe/Paris
CALSCALE:GREGORIAN
PRODID:-//SPIP/Plugin Agenda//NONSGML v1.0//FR
X-WR-CALNAME;VALUE=TEXT:Commune de Lanouaille en Périgord Vert -- Agenda
X-WR-CALDESC:Site de la Mairie de Lanouaille\, au cœur du pays Isle-Auvézère en Périgord vert…
X-WR-RELCALID:http://www.lanouaille.fr
BEGIN:VEVENT
SUMMARY:Vide grenier et tournoi de basket
UID:evenement128 @ http://www.lanouaille.fr
DTSTAMP:20150627T000000
DTSTART;VALUE=DATE:20150627
DTEND;VALUE=DATE:20150628
LOCATION:place du collège à Lanouaille 
DESCRIPTION:Organisé par l'Auvézère Basket Club 06.61.61.40.97 Emplacements vide grenier gratuits Tournoi de basket 3 contre 3 ouvert aux seniors licenciés ou non Buvette et restauration sur place
CATEGORIES:Vide grenier
URL:https://www.lanouaille.fr/Vide-grenier\,190.html?id_evenement=128
STATUS:CONFIRMED
END:VEVENT
END:VCALENDAR