BEGIN:VCALENDAR
VERSION:2.0
X-WR-TIMEZONE:Europe/Paris
CALSCALE:GREGORIAN
PRODID:-//SPIP/Plugin Agenda//NONSGML v1.0//FR
X-WR-CALNAME;VALUE=TEXT:Commune de Lanouaille en Périgord Vert -- Agenda
X-WR-CALDESC:Site de la Mairie de Lanouaille\, au cœur du pays Isle-Auvézère en Périgord vert…
X-WR-RELCALID:http://www.lanouaille.fr
BEGIN:VEVENT
SUMMARY:Randonnée à Nantheuil
UID:evenement151 @ http://www.lanouaille.fr
DTSTAMP:20160110T140000
DTSTART:20160110T140000
DTEND:20160110T150000
LOCATION:Nantheuil 
DESCRIPTION:Boucle de l'observatoire 6 km Départ 14h place de la mairie
CATEGORIES:Randonnée à Nantheuil
URL:https://www.lanouaille.fr/Randonnee-a-Nantheuil.html?id_evenement=151
STATUS:CONFIRMED
END:VEVENT
END:VCALENDAR