

BEGIN:VCALENDAR
VERSION:2.0
X-WR-TIMEZONE:Europe/Paris
CALSCALE:GREGORIAN
PRODID:-//SPIP/Plugin Agenda//NONSGML v1.0//FR
X-WR-CALNAME;VALUE=TEXT:Commune de Lanouaille en Périgord Vert -- Agenda
X-WR-CALDESC:Site de la Mairie de Lanouaille\, au cœur du pays Isle-Auvézère en Périgord vert…
X-WR-RELCALID:http://www.lanouaille.fr
BEGIN:VEVENT
SUMMARY:Randonnées Les pieds dans l'herbe
UID:evenement162 @ http://www.lanouaille.fr
DTSTAMP:20160501T000000
DTSTART;VALUE=DATE:20160501
DTEND;VALUE=DATE:20160502
LOCATION:CLAIRVIVRE 
DESCRIPTION:Boucle de Bertran de Born 10 km
CATEGORIES:Randonnées Les pieds dans l'herbe
URL:https://www.lanouaille.fr/Randonnees-Les-pieds-dans-l-herbe.html?id_evenement=162
STATUS:CONFIRMED
END:VEVENT
END:VCALENDAR