

BEGIN:VCALENDAR
VERSION:2.0
X-WR-TIMEZONE:Europe/Paris
CALSCALE:GREGORIAN
PRODID:-//SPIP/Plugin Agenda//NONSGML v1.0//FR
X-WR-CALNAME;VALUE=TEXT:Commune de Lanouaille en Périgord Vert -- Agenda
X-WR-CALDESC:Site de la Mairie de Lanouaille\, au cœur du pays Isle-Auvézère en Périgord vert…
X-WR-RELCALID:http://www.lanouaille.fr
BEGIN:VEVENT
SUMMARY:Soirée Moules/frites
UID:evenement169 @ http://www.lanouaille.fr
DTSTAMP:20160726T190000
DTSTART:20160726T190000
DTEND:20160726T200000
LOCATION:Moulin du Châtain Payzac 
CATEGORIES:Soirée Moules/frites
URL:https://www.lanouaille.fr/Soiree-Moules-frites.html?id_evenement=169
STATUS:CONFIRMED
END:VEVENT
END:VCALENDAR