

BEGIN:VCALENDAR
VERSION:2.0
X-WR-TIMEZONE:Europe/Paris
CALSCALE:GREGORIAN
PRODID:-//SPIP/Plugin Agenda//NONSGML v1.0//FR
X-WR-CALNAME;VALUE=TEXT:Commune de Lanouaille en Périgord Vert -- Agenda
X-WR-CALDESC:Site de la Mairie de Lanouaille\, au cœur du pays Isle-Auvézère en Périgord vert…
X-WR-RELCALID:http://www.lanouaille.fr
BEGIN:VEVENT
SUMMARY:Exposition « Chaussures à son pied »
UID:evenement205 @ http://www.lanouaille.fr
DTSTAMP:20170804T000000
DTSTART;VALUE=DATE:20170804
DTEND;VALUE=DATE:20170826
LOCATION:Mairie de Lanouaille 
DESCRIPTION:Exposition de Lydie CLERGERIE avec la participation des entreprises REPETTO et HOUCKE Vernissage vendredi 4 août à 18h30 Mairie Ateliers 5 et 6 août à la Médiathèque
CATEGORIES:Exposition « Chaussures à son pied »
URL:https://www.lanouaille.fr/Exposition-Chaussures-a-son-pied.html?id_evenement=205
STATUS:CONFIRMED
END:VEVENT
END:VCALENDAR