

BEGIN:VCALENDAR
VERSION:2.0
X-WR-TIMEZONE:Europe/Paris
CALSCALE:GREGORIAN
PRODID:-//SPIP/Plugin Agenda//NONSGML v1.0//FR
X-WR-CALNAME;VALUE=TEXT:Commune de Lanouaille en Périgord Vert -- Agenda
X-WR-CALDESC:Site de la Mairie de Lanouaille\, au cœur du pays Isle-Auvézère en Périgord vert…
X-WR-RELCALID:http://www.lanouaille.fr
BEGIN:VEVENT
SUMMARY:Randonnée de Concèze
UID:evenement207 @ http://www.lanouaille.fr
DTSTAMP:20170903T140000
DTSTART:20170903T140000
DTEND:20170903T150000
LOCATION:Concèze 
DESCRIPTION:Rendez-vous sur place 5 km Les Pieds dans l'herbe 05.53.52.39.95 ou 06.61.22.69.74
CATEGORIES:Randonnée de Concèze
URL:https://www.lanouaille.fr/Randonnee-de-Conceze.html?id_evenement=207
STATUS:CONFIRMED
END:VEVENT
END:VCALENDAR