

BEGIN:VCALENDAR
VERSION:2.0
X-WR-TIMEZONE:Europe/Paris
CALSCALE:GREGORIAN
PRODID:-//SPIP/Plugin Agenda//NONSGML v1.0//FR
X-WR-CALNAME;VALUE=TEXT:Commune de Lanouaille en Périgord Vert -- Agenda
X-WR-CALDESC:Site de la Mairie de Lanouaille\, au cœur du pays Isle-Auvézère en Périgord vert…
X-WR-RELCALID:http://www.lanouaille.fr
BEGIN:VEVENT
SUMMARY:Seniors\, le bon usage des médicaments
UID:evenement214 @ http://www.lanouaille.fr
DTSTAMP:20180220T143000
DTSTART:20180220T143000
DTEND:20180220T153000
LOCATION:Salle des fêtes de Lanouaille 
CATEGORIES:Seniors\, le bon usage des médicaments
URL:https://www.lanouaille.fr/Seniors-le-bon-usage-des-medicaments.html?id_evenement=214
STATUS:CONFIRMED
END:VEVENT
END:VCALENDAR