

BEGIN:VCALENDAR
VERSION:2.0
X-WR-TIMEZONE:Europe/Paris
CALSCALE:GREGORIAN
PRODID:-//SPIP/Plugin Agenda//NONSGML v1.0//FR
X-WR-CALNAME;VALUE=TEXT:Commune de Lanouaille en Périgord Vert -- Agenda
X-WR-CALDESC:Site de la Mairie de Lanouaille\, au cœur du pays Isle-Auvézère en Périgord vert…
X-WR-RELCALID:http://www.lanouaille.fr
BEGIN:VEVENT
SUMMARY:Buffet concert La puce à l'oreille
UID:evenement224 @ http://www.lanouaille.fr
DTSTAMP:20180407T190000
DTSTART:20180407T190000
DTEND:20180407T230000
LOCATION:salle des fêtes de Lanouaille 
DESCRIPTION:2 groupes : Lecleyoucas et Bleu d'Arguin Entrée 15 €\, gratuit pour les moins de 10 ans Repas sous forme de buffet : soupes\, fromages\, desserts Réservations : lapucealoreille24 gmail.com ou 06.38.70.57.62 Organisé par l'école de musique
CATEGORIES:Buffet concert La puce à l'oreille
URL:https://www.lanouaille.fr/Buffet-concert-La-puce-a-l-oreille\,304.html?id_evenement=224
STATUS:CONFIRMED
END:VEVENT
END:VCALENDAR