

BEGIN:VCALENDAR
VERSION:2.0
X-WR-TIMEZONE:Europe/Paris
CALSCALE:GREGORIAN
PRODID:-//SPIP/Plugin Agenda//NONSGML v1.0//FR
X-WR-CALNAME;VALUE=TEXT:Commune de Lanouaille en Périgord Vert -- Agenda
X-WR-CALDESC:Site de la Mairie de Lanouaille\, au cœur du pays Isle-Auvézère en Périgord vert…
X-WR-RELCALID:http://www.lanouaille.fr
BEGIN:VEVENT
SUMMARY:Salon des artisans créateurs
UID:evenement253 @ http://www.lanouaille.fr
DTSTAMP:20190518T100000
DTSTART:20190518T100000
DTEND:20190519T180000
LOCATION:Salle des fêtes de Lanouaille 
CATEGORIES:Salon des artisans créateurs
URL:https://www.lanouaille.fr/Salon-des-artisans-createurs.html?id_evenement=253
STATUS:CONFIRMED
END:VEVENT
END:VCALENDAR