

BEGIN:VCALENDAR
VERSION:2.0
X-WR-TIMEZONE:Europe/Paris
CALSCALE:GREGORIAN
PRODID:-//SPIP/Plugin Agenda//NONSGML v1.0//FR
X-WR-CALNAME;VALUE=TEXT:Commune de Lanouaille en Périgord Vert -- Agenda
X-WR-CALDESC:Site de la Mairie de Lanouaille\, au cœur du pays Isle-Auvézère en Périgord vert…
X-WR-RELCALID:http://www.lanouaille.fr
BEGIN:VEVENT
SUMMARY:Randonnée TROCHE
UID:evenement255 @ http://www.lanouaille.fr
DTSTAMP:20190602T093000
DTSTART:20190602T093000
DTEND:20190602T140000
LOCATION:9h30 Place de l'église de Troche (19) 
DESCRIPTION:Boucle des Farges et de Chanterane 10 + 8 km fractionnables Prévoir pique-nique
CATEGORIES:Randonnée TROCHE
URL:https://www.lanouaille.fr/Randonnee-St-sornin-Lavalops.html?id_evenement=255
STATUS:CONFIRMED
END:VEVENT
END:VCALENDAR