

BEGIN:VCALENDAR
VERSION:2.0
X-WR-TIMEZONE:Europe/Paris
CALSCALE:GREGORIAN
PRODID:-//SPIP/Plugin Agenda//NONSGML v1.0//FR
X-WR-CALNAME;VALUE=TEXT:Commune de Lanouaille en Périgord Vert -- Agenda
X-WR-CALDESC:Site de la Mairie de Lanouaille\, au cœur du pays Isle-Auvézère en Périgord vert…
X-WR-RELCALID:http://www.lanouaille.fr
BEGIN:VEVENT
SUMMARY:Lanouaille en fête
UID:evenement259 @ http://www.lanouaille.fr
DTSTAMP:20190803T180000
DTSTART:20190803T180000
DTEND:20190804T190000
LOCATION:Place de la Fontaine Bugeaud 
CATEGORIES:Lanouaille en fête
URL:https://www.lanouaille.fr/Lanouaille-en-fete.html?id_evenement=259
STATUS:CONFIRMED
END:VEVENT
END:VCALENDAR