

BEGIN:VCALENDAR
VERSION:2.0
X-WR-TIMEZONE:Europe/Paris
CALSCALE:GREGORIAN
PRODID:-//SPIP/Plugin Agenda//NONSGML v1.0//FR
X-WR-CALNAME;VALUE=TEXT:Commune de Lanouaille en Périgord Vert -- Agenda
X-WR-CALDESC:Site de la Mairie de Lanouaille\, au cœur du pays Isle-Auvézère en Périgord vert…
X-WR-RELCALID:http://www.lanouaille.fr
BEGIN:VEVENT
SUMMARY:Conférence Jacqueline Desthomas
UID:evenement269 @ http://www.lanouaille.fr
DTSTAMP:20200208T170000
DTSTART:20200208T170000
DTEND:20200208T180000
LOCATION:Médiathèque 
CATEGORIES:Conférence Jacqueline Desthomas
URL:https://www.lanouaille.fr/Conference-Jacqueline-Desthomas.html?id_evenement=269
STATUS:CONFIRMED
END:VEVENT
END:VCALENDAR