BEGIN:VCALENDAR
VERSION:2.0
X-WR-TIMEZONE:Europe/Paris
CALSCALE:GREGORIAN
PRODID:-//SPIP/Plugin Agenda//NONSGML v1.0//FR
X-WR-CALNAME;VALUE=TEXT:Commune de Lanouaille en Périgord Vert -- Agenda
X-WR-CALDESC:Site de la Mairie de Lanouaille\, au cœur du pays Isle-Auvézère en Périgord vert…
X-WR-RELCALID:http://www.lanouaille.fr
BEGIN:VEVENT
SUMMARY:CORSO FLEURI
UID:evenement358 @ http://www.lanouaille.fr
DTSTAMP:20250420T000000
DTSTART;VALUE=DATE:20250420
DTEND;VALUE=DATE:20250422
CATEGORIES:CORSO FLEURI
URL:https://www.lanouaille.fr/CORSO-FLEURI\,509.html?id_evenement=358
STATUS:CONFIRMED
END:VEVENT
END:VCALENDAR