

BEGIN:VCALENDAR
VERSION:2.0
X-WR-TIMEZONE:Europe/Paris
CALSCALE:GREGORIAN
PRODID:-//SPIP/Plugin Agenda//NONSGML v1.0//FR
X-WR-CALNAME;VALUE=TEXT:Commune de Lanouaille en Périgord Vert -- Agenda
X-WR-CALDESC:Site de la Mairie de Lanouaille\, au cœur du pays Isle-Auvézère en Périgord vert…
X-WR-RELCALID:http://www.lanouaille.fr
BEGIN:VEVENT
SUMMARY:Fête de la musique
UID:evenement37 @ http://www.lanouaille.fr
DTSTAMP:20130621T193000
DTSTART:20130621T193000
DTEND:20130621T233000
LOCATION:Parking de la mairie 
DESCRIPTION:Soirée organisée par l'école de musique « La puce à l'oreille » 19h30 : ateliers musicaux de 3 à 75 ans 20h : apéro chanté 21h : scène ouverte renseignements au 06.85.28.18.51 Grillades\, buvette\, gâteaux
CATEGORIES:Fête de la musique
URL:https://www.lanouaille.fr/Fete-de-la-musique.html?id_evenement=37
STATUS:CONFIRMED
END:VEVENT
END:VCALENDAR