

BEGIN:VCALENDAR
VERSION:2.0
X-WR-TIMEZONE:Europe/Paris
CALSCALE:GREGORIAN
PRODID:-//SPIP/Plugin Agenda//NONSGML v1.0//FR
X-WR-CALNAME;VALUE=TEXT:Commune de Lanouaille en Périgord Vert -- Agenda
X-WR-CALDESC:Site de la Mairie de Lanouaille\, au cœur du pays Isle-Auvézère en Périgord vert…
X-WR-RELCALID:http://www.lanouaille.fr
BEGIN:VEVENT
SUMMARY:Spectacle de danse
UID:evenement79 @ http://www.lanouaille.fr
DTSTAMP:20140513T203000
DTSTART:20140513T203000
DTEND:20140513T220000
LOCATION:salle des fêtes de Lanouaille 
DESCRIPTION:La compagne Sunnyboom de Gilles Baron présente : Deux regards sur la danse La Mort du cygne CCN / Malandain Ballet de Biarritz Tarifs : 10 € plein\, 5 € réduit\, gratuit moins de 12 ans Renseignements : 05.53.52.31.32 Organisé par la Communauté de Communes
CATEGORIES:Spectacle de danse
URL:https://www.lanouaille.fr/Spectacle-de-danse.html?id_evenement=79
STATUS:CONFIRMED
END:VEVENT
END:VCALENDAR