BEGIN:VCALENDAR
VERSION:2.0
X-WR-TIMEZONE:Europe/Paris
CALSCALE:GREGORIAN
PRODID:-//SPIP/Plugin Agenda//NONSGML v1.0//FR
X-WR-CALNAME;VALUE=TEXT:Commune de Lanouaille en Périgord Vert -- Agenda
X-WR-CALDESC:Site de la Mairie de Lanouaille\, au cœur du pays Isle-Auvézère en Périgord vert…
X-WR-RELCALID:http://www.lanouaille.fr
BEGIN:VEVENT
SUMMARY:Conférence et vernissage de l'exposition sur la Grande Guerre
UID:evenement88 @ http://www.lanouaille.fr
DTSTAMP:20140808T173000
DTSTART:20140808T173000
DTEND:20140808T193000
LOCATION:Mairie de Lanouaille 
DESCRIPTION:Jacqueline Desthomas animera la conférence « Une chronique de guerre au travers du petit carnet vert d'un poilu » Conférence suivie d'un vin d'honneur
CATEGORIES:Conférence et vernissage de l'exposition sur la Grande Guerre
URL:https://www.lanouaille.fr/Conference-et-vernissage-de-l-exposition-sur-la-Grande.html?id_evenement=88
STATUS:CONFIRMED
END:VEVENT
END:VCALENDAR