

BEGIN:VCALENDAR
VERSION:2.0
X-WR-TIMEZONE:Europe/Paris
CALSCALE:GREGORIAN
PRODID:-//SPIP/Plugin Agenda//NONSGML v1.0//FR
X-WR-CALNAME;VALUE=TEXT:Commune de Lanouaille en Périgord Vert -- Agenda
X-WR-CALDESC:Site de la Mairie de Lanouaille\, au cœur du pays Isle-Auvézère en Périgord vert…
X-WR-RELCALID:http://www.lanouaille.fr
BEGIN:VEVENT
SUMMARY:Thé dansant Nathalie Legay
UID:evenement90 @ http://www.lanouaille.fr
DTSTAMP:20140831T000000
DTSTART;VALUE=DATE:20140831
DTEND;VALUE=DATE:20140901
LOCATION:Salle des fêtes de Lanouaille 
DESCRIPTION:réservations 05.53.52.26.50 ou 06.81.55.17.93
CATEGORIES:Thé dansant Nathalie Legay
URL:https://www.lanouaille.fr/The-dansant-Nathalie-Legay\,152.html?id_evenement=90
STATUS:CONFIRMED
END:VEVENT
END:VCALENDAR