

BEGIN:VCALENDAR
VERSION:2.0
X-WR-TIMEZONE:Europe/Paris
CALSCALE:GREGORIAN
PRODID:-//SPIP/Plugin Agenda//NONSGML v1.0//FR
X-WR-CALNAME;VALUE=TEXT:Commune de Lanouaille en Périgord Vert -- Agenda
X-WR-CALDESC:Site de la Mairie de Lanouaille\, au cœur du pays Isle-Auvézère en Périgord vert…
X-WR-RELCALID:http://www.lanouaille.fr
BEGIN:VEVENT
SUMMARY:Vide grenier
UID:evenement92 @ http://www.lanouaille.fr
DTSTAMP:20140921T000000
DTSTART;VALUE=DATE:20140921
DTEND;VALUE=DATE:20140922
LOCATION:Place du collège Lanouaille 
DESCRIPTION:organisé par le club de basket emplacements gratuits réservations au 06.61.61.40.97 restauration possible sur place
CATEGORIES:Vide grenier
URL:https://www.lanouaille.fr/Vide-grenier\,154.html?id_evenement=92
STATUS:CONFIRMED
END:VEVENT
END:VCALENDAR